﻿BEGIN:VCALENDAR
VERSION:2.0
PRODID:-//eventon.com NONSGML v1.0//EN
CALSCALE:GREGORIAN
METHOD:PUBLISH
BEGIN:VEVENT
UID:69e88db52e24f
DTSTAMP:20260422T085829Z
DTSTART:20260530
DTEND:20260531
LOCATION:AC Kronach
SUMMARY:Hardenduro Kronach
DESCRIPTION:\nhttps://www.enduro.de/events/hardenduro-kronach/
URL:https://www.enduro.de/events/hardenduro-kronach/
END:VEVENT
END:VCALENDAR