﻿BEGIN:VCALENDAR
VERSION:2.0
PRODID:-//eventon.com NONSGML v1.0//EN
CALSCALE:GREGORIAN
METHOD:PUBLISH
BEGIN:VEVENT
UID:69e738835ab5d
DTSTAMP:20260421T084243Z
DTSTART:20260808
DTEND:20260809
LOCATION:Nordring Lauchhammer
SUMMARY:ECHT: Lauchhammer
DESCRIPTION:\nhttps://www.enduro.de/events/echt-lauchhammer/
URL:https://www.enduro.de/events/echt-lauchhammer/
END:VEVENT
END:VCALENDAR